BEGIN:VCALENDAR
VERSION:2.0
PRODID:-//eventon.com NONSGML v1.0//EN
CALSCALE:GREGORIAN
METHOD:PUBLISH
BEGIN:VEVENT
UID:69e73f2f9ff63
DTSTAMP:20260421T091111Z
DTSTART:20170409T190000Z
DTEND:20170409T220000Z
LOCATION:
SUMMARY:MIX - 80802 München\,  Schwabinger Schaumschläger (Lesebühne)
DESCRIPTION:MIX - 80802 München\,  Schwabinger Schaumschläger (Lesebühne
 )\nhttps://www.franziska-wanninger.de/events/mix-82256-fuerstenfeldbruck-ve
 ranstaltungsforum/
URL:https://www.franziska-wanninger.de/events/mix-82256-fuerstenfeldbruck-veranstaltungsforum/
END:VEVENT
END:VCALENDAR