BEGIN:VCALENDAR
VERSION:2.0
PRODID:-//eventon.com NONSGML v1.0//EN
CALSCALE:GREGORIAN
METHOD:PUBLISH
BEGIN:VEVENT
UID:69e740922afb0
DTSTAMP:20260421T091706Z
DTSTART:20190108T203000Z
DTEND:20190108T220000Z
LOCATION:
SUMMARY:Wia d’Semmel\,  so da Knödel - 85057 Ingolstadt\,  Neue Welt
DESCRIPTION:Wia d’Semmel\,  so da Knödel - 85057 Ingolstadt\,  Neue Welt
 \nhttps://www.franziska-wanninger.de/events/wia-dsemmel-so-da-knoedel-85057
 -ingolstadt-neue-welt/
URL:https://www.franziska-wanninger.de/events/wia-dsemmel-so-da-knoedel-85057-ingolstadt-neue-welt/
END:VEVENT
END:VCALENDAR