BEGIN:VCALENDAR
VERSION:2.0
PRODID:-//eventon.com NONSGML v1.0//EN
CALSCALE:GREGORIAN
METHOD:PUBLISH
BEGIN:VEVENT
UID:69e73f4030752
DTSTAMP:20260421T091128Z
DTSTART:20200429T190000Z
DTEND:20200429T210000Z
LOCATION:
SUMMARY:Wia d’Semmel\,  so da Knödel - 94491 Hengersberg\,  Nothaftgewölbe
DESCRIPTION:Wia d’Semmel\,  so da Knödel - 94491 Hengersberg\,  Nothaftg
 ewölbe\nhttps://www.franziska-wanninger.de/events/wia-dsemmel-so-da-knoede
 l-94491-hengersberg-nothaftgewoelbe/
URL:https://www.franziska-wanninger.de/events/wia-dsemmel-so-da-knoedel-94491-hengersberg-nothaftgewoelbe/
END:VEVENT
END:VCALENDAR