BEGIN:VCALENDAR
VERSION:2.0
PRODID:-//eventon.com NONSGML v1.0//EN
CALSCALE:GREGORIAN
METHOD:PUBLISH
BEGIN:VEVENT
UID:69ec36bf2aecd
DTSTAMP:20260425T033631Z
DTSTART:20200703T180000Z
DTEND:20200703T220000Z
LOCATION:
SUMMARY:Wia d'Semmel so da Knödel - 94032 Passau\,  Domplatz\,  Eulenspiegel Flying Circus
DESCRIPTION:Wia d'Semmel so da Knödel - 94032 Passau\,  Domplatz\,  Eulens
 piegel Flying Circus\nhttps://www.franziska-wanninger.de/events/kurzauftrit
 t-94032-passau-redoute-geschlossene-gesellschaft/
URL:https://www.franziska-wanninger.de/events/kurzauftritt-94032-passau-redoute-geschlossene-gesellschaft/
END:VEVENT
END:VCALENDAR