BEGIN:VCALENDAR
VERSION:2.0
PRODID:-//eventon.com NONSGML v1.0//EN
CALSCALE:GREGORIAN
METHOD:PUBLISH
BEGIN:VEVENT
UID:69e7407cdf8d0
DTSTAMP:20260421T091644Z
DTSTART:20210312T000000Z
DTEND:20210312T235900Z
LOCATION:
SUMMARY:furchtlos glücklich - 85540 Haar\,  Kleines Theater (Onlineveranstaltung)
DESCRIPTION:furchtlos glücklich - 85540 Haar\,  Kleines Theater (Onlinever
 anstaltung)\nhttps://www.franziska-wanninger.de/events/neues-programm-85540
 -haar-kleines-theater/
URL:https://www.franziska-wanninger.de/events/neues-programm-85540-haar-kleines-theater/
END:VEVENT
END:VCALENDAR