BEGIN:VCALENDAR
VERSION:2.0
PRODID:-//eventon.com NONSGML v1.0//EN
CALSCALE:GREGORIAN
METHOD:PUBLISH
BEGIN:VEVENT
UID:69ea2f74b1b43
DTSTAMP:20260423T144052Z
DTSTART:20240104T190000Z
DTEND:20240104T210000Z
LOCATION:
SUMMARY:Mix - 84533 Marktl\,  Leonberger Kabarettbrettl mit Sara Brandhuber\,  Mathias Kellner und Nepo Fitz
DESCRIPTION:Mix - 84533 Marktl\,  Leonberger Kabarettbrettl mit Sara Brandh
 uber\,  Mathias Kellner und Nepo Fitz\nhttps://www.franziska-wanninger.de/e
 vents/mix-84533-marktl-leonberger-kabarettbrettl-mit-martin-frank-christine
 -eixenberger-und-weiherer/
URL:https://www.franziska-wanninger.de/events/mix-84533-marktl-leonberger-kabarettbrettl-mit-martin-frank-christine-eixenberger-und-weiherer/
END:VEVENT
END:VCALENDAR