BEGIN:VCALENDAR
VERSION:2.0
PRODID:-//eventon.com NONSGML v1.0//EN
CALSCALE:GREGORIAN
METHOD:PUBLISH
BEGIN:VEVENT
UID:69e5f5173a152
DTSTAMP:20260420T094247Z
DTSTART:20251009T180000Z
DTEND:20251009T200000Z
LOCATION:
SUMMARY:81675 München\,  Einstein Kultur <br><small> Eröffnungsveranstaltung Woche für seelische Gesundheit - Eintritt frei </small>
DESCRIPTION:81675 München\,  Einstein Kultur Eröffnungsveranstaltung Woch
 e für seelische Gesundheit - Eintritt frei\nhttps://www.franziska-wanninge
 r.de/events/80333-muenchen-geschlossene-gesellschaft/
URL:https://www.franziska-wanninger.de/events/80333-muenchen-geschlossene-gesellschaft/
END:VEVENT
END:VCALENDAR