BEGIN:VCALENDAR
VERSION:2.0
PRODID:-//eventon.com NONSGML v1.0//EN
CALSCALE:GREGORIAN
METHOD:PUBLISH
BEGIN:VEVENT
UID:69e9fa87a941c
DTSTAMP:20260423T105503Z
DTSTART:20260612T180000Z
DTEND:20260612T200000Z
LOCATION:
SUMMARY:42929 Wermelskirchen\,  Kattwinkelsche Fabrik <br><small> Wenn du wen brauchst\,  ruf mich nicht an </small>
DESCRIPTION:42929 Wermelskirchen\,  Kattwinkelsche Fabrik Wenn du wen brauc
 hst\,  ruf mich nicht an\nhttps://www.franziska-wanninger.de/events/42929-w
 ermelskirchen-kattwinkelsche-fabrik-wenn-du-wen-brauchst-ruf-mich-nicht-an/
URL:https://www.franziska-wanninger.de/events/42929-wermelskirchen-kattwinkelsche-fabrik-wenn-du-wen-brauchst-ruf-mich-nicht-an/
END:VEVENT
END:VCALENDAR